BEGIN:VCALENDAR
VERSION:2.0
PRODID:-//Tukios.com/
BEGIN:VEVENT
UID:20cdf94c-bd6c-44da-b3fb-e9f3cbe3580f@www.hoffmanfh.com
DTSTAMP:20260423T175651Z
DTSTART:20260427
SUMMARY:Interment
DESCRIPTION:
URL:https://www.hoffmanfh.com/obituaries/mary-mcandrews
LOCATION:St. Patrick Cemetery 343 McClures Gap Rd  Carlisle PA 17013
GEO:40.2105769;-77.2294336
END:VEVENT
END:VCALENDAR