BEGIN:VCALENDAR
VERSION:2.0
PRODID:-//Tukios.com/
BEGIN:VEVENT
UID:61d5d4f7-d3db-4cc8-a4eb-e7794c4c74ba@www.hoffmanfh.com
DTSTAMP:20260423T175754Z
DTSTART:20260427T150000Z
DTEND:20260427T160000Z
SUMMARY:Mass
DESCRIPTION:
URL:https://www.hoffmanfh.com/obituaries/mary-mcandrews
LOCATION:Saint Patrick Shrine Church 152 East Pomfret Street  Carlisle PA 
	17013
GEO:40.1994071;-77.1854952
END:VEVENT
END:VCALENDAR