BEGIN:VCALENDAR
VERSION:2.0
PRODID:-//Tukios.com/
BEGIN:VEVENT
UID:f4c3ead9-85f7-4f1b-b4e8-5385cd5ce20e@www.hoffmanfh.com
DTSTAMP:20260423T175406Z
DTSTART:20260426T210000Z
DTEND:20260426T230000Z
SUMMARY:Viewing
DESCRIPTION:
URL:https://www.hoffmanfh.com/obituaries/mary-mcandrews
LOCATION:Hoffman Funeral & Cremation 2020 West Trindle Road  Carlisle PA 
	17013
GEO:40.2003277;-77.1653223
END:VEVENT
END:VCALENDAR