BEGIN:VCALENDAR
VERSION:2.0
PRODID:-//Tukios.com/
BEGIN:VEVENT
UID:a31dbe5f-08cc-4b05-b27d-f3cc542461a9@www.hoffmanfh.com
DTSTAMP:20260421T172731Z
DTSTART:20260424T170000Z
DTEND:20260424T180000Z
SUMMARY:Funeral Service
DESCRIPTION:
URL:https://www.hoffmanfh.com/obituaries/larry-willier
LOCATION: 2020 W Trindle Road  Carlisle PA 17013
GEO:40.2003277;-77.1653223
END:VEVENT
END:VCALENDAR