BEGIN:VCALENDAR
VERSION:2.0
PRODID:-//Tukios.com/
BEGIN:VEVENT
UID:401b3eda-f56d-49b5-87a3-37189757a180@www.hoffmanfh.com
DTSTAMP:20260421T081547Z
DTSTART:20260418T140000Z
DTEND:20260418T150000Z
SUMMARY:Funeral Service
DESCRIPTION:
URL:https://www.hoffmanfh.com/obituaries/berta-chronister
LOCATION:Hoffman Funeral & Cremation 2020 West Trindle Road  Carlisle PA 
	17013
GEO:40.2003277;-77.1653223
END:VEVENT
END:VCALENDAR