BEGIN:VCALENDAR
VERSION:2.0
PRODID:-//Tukios.com/
BEGIN:VEVENT
UID:e6ee9361-1ad2-45ab-8fa7-0a4fc20e7d04@www.hoffmanfh.com
DTSTAMP:20260421T084305Z
DTSTART:20260418T130000Z
DTEND:20260418T140000Z
SUMMARY:Viewing
DESCRIPTION:
URL:https://www.hoffmanfh.com/obituaries/berta-chronister
LOCATION:Hoffman Funeral & Cremation 2020 West Trindle Road  Carlisle PA 
	17013
GEO:40.2003277;-77.1653223
END:VEVENT
END:VCALENDAR